BEGIN:VCALENDAR
VERSION:2.0
PRODID:-//Library Market//iCal Export//EN
BEGIN:VEVENT
SUMMARY:The Super-Hero in &quot;Reel&quot; Time with Marvel artist Jerry D
 eCaire
UID:74783
DTSTAMP:20260424T215300Z
DTSTART:20260728T140000Z
DTEND:20260728T153000Z
LOCATION:Grace A. Dow Memorial Library, 1710 West Saint Andrews Road, Midl
 and, MI 48640, United States
ROOM: The Super-Hero in &quot;Reel&quot; Time with Marvel artist Jerry DeC
 aire
DESCRIPTION:Please join us as we present, Jerry DeCaire, ​MARVEL Enterta
 inment Illustrator,  Jerry DeCaire, merges the Performance Arts with th
 e Visual Arts  in a Live, &quot;REEL&quot;-TIME-Drawing exposé that is
  both stunningly entertaining and educational! The 1.5 hour program inclu
 des a semi-animated slideshow detailing how a comic book is made followed 
 by a real-time drawing performance.
URL:https://gadml.librarycalendar.com/event/super-hero-reel-time-74783
END:VEVENT
END:VCALENDAR
