BEGIN:VCALENDAR
VERSION:2.0
PRODID:-//Library Market//iCal Export//EN
BEGIN:VEVENT
SUMMARY:Baby Time
UID:74633
DTSTAMP:20260423T200800Z
DTSTART:20260716T143000Z
DTEND:20260716T150000Z
LOCATION:Grace A. Dow Memorial Library, 1710 West Saint Andrews Road, Midl
 and, MI 48640, United States
ROOM: Story Room
DESCRIPTION:Enjoy connecting with your baby using songs, dances, and stori
 es!This program is for ages 0-18 months and will occur in the Story Room.M
 ost programs will take place at the library but may be subject to change.
URL:https://gadml.librarycalendar.com/event/baby-time-74633
END:VEVENT
END:VCALENDAR
