BEGIN:VCALENDAR
VERSION:2.0
PRODID:-//Library Market//iCal Export//EN
BEGIN:VEVENT
SUMMARY:Snack &amp; Yak
UID:73027
DTSTAMP:20260426T004300Z
DTSTART:20260521T213000Z
DTEND:20260521T223000Z
LOCATION:Grace A. Dow Memorial Library, 1710 West Saint Andrews Road, Midl
 and, MI 48640, United States
ROOM: West Portico
DESCRIPTION:Are you a 4th or 5th grader who loves to read? Would you love 
 to find your next read by hearing what others your age are reading? We hav
 e a book club just for you! 4th and 5th graders can read whatever they cho
 ose, talk about it, enjoy a snack and do an activity!*** Meet outside unde
 r the West Portico. We will be doing tie-dye- wear clothes you don&#039;t 
 mind getting dirty or stained!***Attend 5 book clubs and earn a free book!
 *Registration is required.Parents can drop off and pick up their child wit
 h the librarian. The program will be approximately an hour long.
URL:https://gadml.librarycalendar.com/event/snack-yak-73027
END:VEVENT
END:VCALENDAR
